BEGIN:VCALENDAR
VERSION:2.0
PRODID:-//ChamberMaster//Event Calendar 2.0//EN
METHOD:PUBLISH
X-PUBLISHED-TTL:P1H
REFRESH-INTERVAL:P1H
CALSCALE:GREGORIAN
BEGIN:VTIMEZONE
TZID:America/New_York
BEGIN:DAYLIGHT
RRULE:FREQ=YEARLY;BYMONTH=3;BYDAY=2SU
DTSTART:20070101T000000
TZOFFSETFROM:-0500
TZOFFSETTO:-0400
TZNAME:Eastern Daylight Time
END:DAYLIGHT
BEGIN:STANDARD
RRULE:FREQ=YEARLY;BYMONTH=11;BYDAY=1SU
DTSTART:20070101T000000
TZOFFSETFROM:-0400
TZOFFSETTO:-0500
TZNAME:Eastern Standard Time
END:STANDARD
END:VTIMEZONE
BEGIN:VEVENT
DTSTART;TZID=America/New_York:20231114T140000
DTEND;TZID=America/New_York:20231114T160000
X-MICROSOFT-CDO-ALLDAYEVENT:FALSE
SUMMARY:ChatGPT: Leveraging the Latest Craze to Level Up Your Business
DESCRIPTION:This FREE workshop will cover:\n\nUnderstand the basics of ChatGPT\nLearn how to start using ChatGPT in your business\nDiscover a plethora of ways ChatGPT can benefit your business\nGain valuable insights from an international marketing and business growth expert\nBy the end of this workshop\, you will have a solid foundation in ChatGPT to start leveraging this powerful tool to enhance your business. Join us and unlock your business’ growth potential!\nAbout the Presenter:\n\nMultiple #1 International bestselling author Dr. Marcus Alexander consults\, speaks\, and advises across the spectrum of leadership\, event\, and marketing topics to bring more customers to your business while also increasing their value to your business. Marcus founded his events and marketing agency\, SocialMarQui.com in 2008 which specializes in creative\, innovative\, multimedia marketing and event growth solutions.\n\nAs a speaker\, business owner\, and philanthropist\, Marcus is humbled to share his vision and message of empowerment in genuine hope that more people will share their unique light with the world by pursuing and realizing the optimal potential of their dreams.\n\nBy participating in this event\, I acknowledge and irrevocably authorize the National Entrepreneur Center to use photographs of me and/or my property and authorize it and its licensees\, legal representatives\, and transferees to use and publish (with or without my name\, company name\, or with a fictitious name) photographs\, pictures\, portraits or images herein described and any and all forms of media and in all matters including composite images or distorted representations\, and the purposes of publicity\, illustration\, commercial art\, advertising\, publishing\, for any product or services\, or other lawful uses as may be determined by the photographer or the National Entrepreneur Center. I give permission to the National Entrepreneur Center\, its partners\, programs and sponsors\, to contact me using my registration information. I further waive any and all rights to review or approve any uses of the images\, a written copy\, or for finished product.
X-ALT-DESC;FMTTYPE=text/html:This FREE workshop will cover:\n\nUnderstand the basics of ChatGPT\nLearn how to start using ChatGPT in your business\nDiscover a plethora of ways ChatGPT can benefit your business\nGain valuable insights from an international marketing and business growth expert\nBy the end of this workshop\, you will have a solid foundation in ChatGPT to start leveraging this powerful tool to enhance your business. Join us and unlock your business’ growth potential!\nAbout the Presenter:\n\nMultiple #1 International bestselling author Dr. Marcus Alexander consults\, speaks\, and advises across the spectrum of leadership\, event\, and marketing topics to bring more customers to your business while also increasing their value to your business. Marcus founded his events and marketing agency\, SocialMarQui.com in 2008 which specializes in creative\, innovative\, multimedia marketing and event growth solutions.\n\nAs a speaker\, business owner\, and philanthropist\, Marcus is humbled to share his vision and message of empowerment in genuine hope that more people will share their unique light with the world by pursuing and realizing the optimal potential of their dreams.\n\nBy participating in this event\, I acknowledge and irrevocably authorize the National Entrepreneur Center to use photographs of me and/or my property and authorize it and its licensees\, legal representatives\, and transferees to use and publish (with or without my name\, company name\, or with a fictitious name) photographs\, pictures\, portraits or images herein described and any and all forms of media and in all matters including composite images or distorted representations\, and the purposes of publicity\, illustration\, commercial art\, advertising\, publishing\, for any product or services\, or other lawful uses as may be determined by the photographer or the National Entrepreneur Center. I give permission to the National Entrepreneur Center\, its partners\, programs and sponsors\, to contact me using my registration information. I further waive any and all rights to review or approve any uses of the images\, a written copy\, or for finished product.
LOCATION:3201 E. Colonial Drive Orlando FL 32801
UID:e.2889.886132
SEQUENCE:3
DTSTAMP:20260422T041107Z
URL:https://indianamericanchamberofcommerceiacc.growthzoneapp.com/events/Details/chatgpt-leveraging-the-latest-craze-to-level-up-your-business-993892?sourceTypeId=Hub
END:VEVENT
END:VCALENDAR
